BEGIN:VCALENDAR
VERSION:2.0
PRODID:-//KLSICCI - ECPv6.15.13//NONSGML v1.0//EN
CALSCALE:GREGORIAN
METHOD:PUBLISH
X-WR-CALNAME:KLSICCI
X-ORIGINAL-URL:https://klsicci.com.my
X-WR-CALDESC:Events for KLSICCI
REFRESH-INTERVAL;VALUE=DURATION:PT1H
X-Robots-Tag:noindex
X-PUBLISHED-TTL:PT1H
BEGIN:VTIMEZONE
TZID:Asia/Kuala_Lumpur
BEGIN:STANDARD
TZOFFSETFROM:+0800
TZOFFSETTO:+0800
TZNAME:+08
DTSTART:20240101T000000
END:STANDARD
END:VTIMEZONE
BEGIN:VEVENT
DTSTART;TZID=Asia/Kuala_Lumpur:20250710T150000
DTEND;TZID=Asia/Kuala_Lumpur:20250710T170000
DTSTAMP:20260425T005747
CREATED:20250714T030121Z
LAST-MODIFIED:20250714T030121Z
UID:802-1752159600-1752166800@klsicci.com.my
SUMMARY:Empowering Digital for SMEs & MSMEs
DESCRIPTION:Dear Esteemed Members\, \nThe Kuala Lumpur and Selangor Indian Chamber of Commerce and Industry (KLSICCI)\, in collaboration with Maybank\, will be organising an exclusive webinar titled “Empowering Digital for SMEs & MSMEs“. This initiative aims to equip Small and Medium Enterprises (SMEs) and Micro\, Small and Medium Enterprises (MSMEs) with essential knowledge and tools to enhance digital adoption in their daily business operations. \nThe session will feature insights from two key speakers: \n\n Dr. Lalitha\, a renowned Digitalization Trainer\n Mr. Joshua\, QR Payment Specialist from Maybank\n\n  \nThe webinar will cover a range of crucial topics\, including: \n\nImplementation of QR Payment systems for both B2C and B2B transactions\nOverview of government matching grants\, including eligibility criteria\, required documentation\, and the application process\nIntroduction to digital tools that can improve productivity and efficiency in business operations\nGuidance on how businesses can claim e-Invoicing solutions under available government grants\n\n  \nThis informative session is designed to help businesses explore practical digital solutions\, understand available government support\, and take actionable steps toward automation and regulatory compliance. \nEvent Details: \nDate: 10th July 2025 (Thursday) \nTime: 3:00 PM – 5:00 PM \nPlatform: Zoom (Link will be shared closer to the event) \n  \nRegister via the Google Link provided below. \nhttps://forms.gle/SVR2qn1G3n9NwNUo8 \nKLSICCI encourages all interested businesses to mark their calendars and take advantage of this opportunity to accelerate their digital journey. \n  \nWarm Regards\, \nMogana Chinnathamby \nHonorary Secretary General \nKLSICCI – Est. 1928 \n 
URL:https://klsicci.com.my/event/empowering-digital-for-smes-msmes/
LOCATION:Kuala Lumpur
ATTACH;FMTTYPE=image/jpeg:https://klsicci.com.my/wp-content/uploads/2025/07/Empowering-Digital-for-SMEs-MSMEs.jpg
ORGANIZER;CN="KLSICCI":MAILTO:enquiry@klsicci.com.my
END:VEVENT
BEGIN:VEVENT
DTSTART;TZID=Asia/Kuala_Lumpur:20250718T153000
DTEND;TZID=Asia/Kuala_Lumpur:20250718T203000
DTSTAMP:20260425T005747
CREATED:20250713T221133Z
LAST-MODIFIED:20250713T221207Z
UID:798-1752852600-1752870600@klsicci.com.my
SUMMARY:KLSICCI Business Networking Dinner
DESCRIPTION:Dear Esteemed Members\, \nThe Kuala Lumpur and Selangor Indian Chamber of Commerce and Industry (KLSICCI) is pleased to invite you to the upcoming Business Networking Dinner hosted by our Logistics & Transport Sector Committee. \nEvent Details: \nDate: Friday\, 18th July 2025 \nTime: 3:30 PM – 8:30 PM \nVenue: Royal Selangor Club\, Kuala Lumpur \n  \nFee: – \nMembers – RM80.00 \nNon-Members – RM100.00 \n  \nThis exclusive event is open to professionals and business owners from all industries\, offering an excellent platform to expand networks\, explore cross-sector opportunities\, and strengthen business visibility. The event is also designed to foster connections across a broad spectrum of industries and sectors\, promoting collaborative growth and knowledge-sharing.  \nNOTE: \nParticipants are required to make payment upon registration and upload the proof of payment via the designated Google Form link. \nBank Details: \nBank Name: CIMB \nAccount Number: 8000161120 \nAccount Name: KLSICCI \n  \nThis event marks another meaningful step in KLSICCI’s ongoing commitment to creating impactful platforms for engagement and collaboration within the business community.  \nLimited slots are available\, and early registration is encouraged. Please register in the Google link below. \nhttps://forms.gle/jqS64xzRE1PPYwnZ9 \nShould you require further information\, please contact the KLSICCI Secretariat at 03-26931033 / 012-2561033 or email to enquiry@klsicci.com.my \nWe look forward to your presence. \nWarm regards\, \nMogana Chinnathamby \nHonorary Secretary General \nKLSICCI – Est. 1928
URL:https://klsicci.com.my/event/klsicci-business-networking-dinner/
LOCATION:Ballroom\, Royal Selangor Club\, Jalan Raja\, City Centre\, Kuala Lumpur\, 50050\, Malaysia
ATTACH;FMTTYPE=image/jpeg:https://klsicci.com.my/wp-content/uploads/2025/07/KLSICCI-Business-Networking-Dinner.jpg
ORGANIZER;CN="KLSICCI":MAILTO:enquiry@klsicci.com.my
END:VEVENT
BEGIN:VEVENT
DTSTART;TZID=Asia/Kuala_Lumpur:20260425T100000
DTEND;TZID=Asia/Kuala_Lumpur:20260425T130000
DTSTAMP:20260425T005747
CREATED:20260413T205111Z
LAST-MODIFIED:20260413T205111Z
UID:1873-1777111200-1777122000@klsicci.com.my
SUMMARY:NOTICE OF THE 2nd EXTRAORDINARY GENERAL MEETING
DESCRIPTION:NOTICE IS HEREBY GIVEN that the 2nd Extraordinary General Meeting of the Kuala Lumpur and Selangor Indian Chamber of Commerce and Industry (KLSICCI) will be held on 25th April 2026 (Saturday)\, at the Perdana Room 1 & 2\, Royal Lake Club\, Jalan Cenderamulia\, Tasik Perdana\, 50480 Kuala Lumpur\, from 10.00 am till 1.00 pm. \n  \nPurpose Of the EGM \nTo consider and\, if thought fit\, pass the following resolution that the Constitution of the Chamber be amended by inserting a new Clause 18A to allow the use of On-Site Electronic Voting\, using designated voting terminals provided by the appointed service provider at the AGM or EGM\, solely for the purpose of Election of Office Bearers\, and that the Management Council be authorised to implement and appoint an Election Officer to regulate the procedures relating thereto. \n  \nBackground \nMembers are informed that the 1st Extraordinary General Meeting was previously convened on 14th March 2026 to deliberate on the proposed constitutional amendments relating to on-site E-Voting. \nHowever\, the required quorum was not achieved\, and therefore\, the meeting could not proceed with the business of the meeting. \nIn accordance with the Constitution of KLSICCI\, constitutional amendments require a proper quorum and the approval of members present and voting at a General Meeting. \nAccordingly\, the Council hereby convenes this fresh Extraordinary General Meeting for members to deliberate and decide on the proposed amendments. \n  \nAgenda \n\n10.00 am – Registration.\n11.00 am – Opening Remarks by Emcee.\n11.05 am – Confirmation of quorum.\n11.07 am – Welcoming address by the President of KLSICCI\, Mr. Nivas Ragavan.\n11.20 am – Presentation of the proposed amendments to the Constitution relating to\n\nOn-Site Electronic Voting (E-Voting). \n\n11.40 am – Discussion by members.\n12.15 pm – Resolution to approve the proposed amendments to the Constitution.\n12.20 pm – Closure of meeting and lunch.\n\n  \nBY ORDER OF THE MANAGEMENT COUNCIL  \nMs. Mogana Chinnathamby \nHonorary Secretary-General \nKLSICCI \nDate: 04th April 2026 \n  \n*IMPORTANT NOTE* \n\nMembers are strongly encouraged to RSVP for your attendance via the link provided by 21st April 2026 (Tuesday). This will enable us to make the necessary arrangements.\n\n\nAs per clause 18.1\, Members in benefit shall be members who settle their arrears before 31st March of each year and shall be deemed to qualify as member in benefit for the purpose of casting their vote.\n\n\nAs per clause 15.4\, No business shall be transacted at any General Meeting unless a quorum is present at the time when the meeting proceeds to business. The quorum for an Annual General Meeting shall be sixty (60) members.\n\n\nAs per clause 15.5\, If within one hour from the time appointed for the meeting a quorum is not achieved:\n\n\nAs per clause 15.5.1 it shall stand adjourned to such day in the next week and at such time and place as the Council may decide.\n\n  \n\nAs per clause 25.2\, Notwithstanding anything to the contrary in these Rules it is herein declared that the Quorum shall be sixty (60) Members present and voting at any Meeting to change\, alter or amend the Constitution. This shall be determined by the Honorary Secretary General before the item is presented. Furthermore\, in accordance with R.O.S guidelines such action shall require a two-third (2/3) majority. Such change\, alteration or amendment shall only apply once endorsed by R.O.S.\n\n 
URL:https://klsicci.com.my/event/notice-of-the-2nd-extraordinary-general-meeting/
LOCATION:Perdana Room 1 & 2\, Royal Lake Club\, Jalan Cenderamulia\, Tasik Perdana\, 50480 Kuala Lumpur\, Perdana Room 1 & 2\, Royal Lake Club\, Jalan Cenderamulia\, Tasik Perdana\,\, Kuala Lumpur\, Kuala Lumpur\, 50480\, Malaysia
ORGANIZER;CN="KLSICCI":MAILTO:enquiry@klsicci.com.my
END:VEVENT
END:VCALENDAR