BEGIN:VCALENDAR
VERSION:2.0
PRODID:-//KLSICCI - ECPv6.15.13//NONSGML v1.0//EN
CALSCALE:GREGORIAN
METHOD:PUBLISH
X-WR-CALNAME:KLSICCI
X-ORIGINAL-URL:https://klsicci.com.my
X-WR-CALDESC:Events for KLSICCI
REFRESH-INTERVAL;VALUE=DURATION:PT1H
X-Robots-Tag:noindex
X-PUBLISHED-TTL:PT1H
BEGIN:VTIMEZONE
TZID:Asia/Kuala_Lumpur
BEGIN:STANDARD
TZOFFSETFROM:+0800
TZOFFSETTO:+0800
TZNAME:+08
DTSTART:20240101T000000
END:STANDARD
END:VTIMEZONE
BEGIN:VEVENT
DTSTART;TZID=Asia/Kuala_Lumpur:20250518T090000
DTEND;TZID=Asia/Kuala_Lumpur:20250518T120000
DTSTAMP:20260424T233306
CREATED:20250508T215953Z
LAST-MODIFIED:20250508T221745Z
UID:619-1747558800-1747569600@klsicci.com.my
SUMMARY:NOTICE OF THE 96TH ANNUAL GENERAL MEETING
DESCRIPTION:NOTICE IS HEREBY GIVEN that the 96th Annual General Meeting of the Kuala Lumpur and Selangor Indian Chamber of Commerce and Industry (KLSICCI) will be held on 18th May 2025 (Sunday) at the Ballroom\, Royal Selangor Club\, Jalan Raja\, City Centre\, 50050 Kuala Lumpur at 9.00 am. \n\nAGENDA\n\nWelcoming address by the President of KLSICCI\, Mr. Nivas Ragavan.\nAdoption of the Minutes of the 95th Annual General Meeting held on 28th April 2024 by the Honorary Secretary-General.\nPresentation and Adoption of the Annual Report for the period April 2024 to March 2025 by the Honorary Secretary-General.\nPresentation and Adoption of the Audited Statement of Accounts for the year ended 31st December 2024 by the Honorary Treasurer.\nConsideration of Resolutions and Amendments (if any).\nAppointment of Auditors.\nTransaction of any business and any other matters on which 14 days’ notice has been duly given.\n\n\nBY ORDER OF THE MANAGEMENT COUNCILMs. Mogana ChinnathambyHonorary Secretary-GeneralKLSICCI \nDate: 25th April 2025 \n\nP.S. \n\nNotice of the 96th AGM\, the 95th AGM Minutes\, the 2024 Audited Report\, and the Resolution Proposal Form for the Annual General Meeting are sent electronically via email and WhatsApp as part of our paperless ESG initiative.\nAs per Clause 18.1\, Members in arrears of subscription payments must settle all dues by 31st March 2025. Only Members in Benefit are eligible to participate in the AGM.\nA digital copy of the Annual Report will be emailed seven (7) days prior to the AGM. Printed copies will be made available on AGM Day. Members in Benefit who require a hard copy may request one from the Secretariat after the AGM.\nProposed resolutions must be submitted to the KLSICCI Secretariat via email or through the designated Google Form by 5.00 pm on Friday\, 2nd May 2025.\nMembers are strongly encouraged to submit any questions related to the AGM in advance via email to enquiry@klsicci.com.my by 5.00 pm on Friday\, 2nd May 2025. This will help to ensure the meeting proceeds in a timely and efficient manner.
URL:https://klsicci.com.my/event/notice-of-the-96th-annual-general-meeting/
LOCATION:Ballroom\, Royal Selangor Club\, Jalan Raja\, City Centre\, Kuala Lumpur\, 50050\, Malaysia
ATTACH;FMTTYPE=image/jpeg:https://klsicci.com.my/wp-content/uploads/2025/05/AGM.jpeg
ORGANIZER;CN="KLSICCI":MAILTO:enquiry@klsicci.com.my
END:VEVENT
END:VCALENDAR