BEGIN:VCALENDAR
VERSION:2.0
PRODID:-//KLSICCI - ECPv6.15.13//NONSGML v1.0//EN
CALSCALE:GREGORIAN
METHOD:PUBLISH
X-ORIGINAL-URL:https://klsicci.com.my
X-WR-CALDESC:Events for KLSICCI
REFRESH-INTERVAL;VALUE=DURATION:PT1H
X-Robots-Tag:noindex
X-PUBLISHED-TTL:PT1H
BEGIN:VTIMEZONE
TZID:Asia/Kuala_Lumpur
BEGIN:STANDARD
TZOFFSETFROM:+0800
TZOFFSETTO:+0800
TZNAME:+08
DTSTART:20240101T000000
END:STANDARD
END:VTIMEZONE
BEGIN:VEVENT
DTSTART;TZID=Asia/Kuala_Lumpur:20250710T150000
DTEND;TZID=Asia/Kuala_Lumpur:20250710T170000
DTSTAMP:20260424T195323
CREATED:20250714T030121Z
LAST-MODIFIED:20250714T030121Z
UID:802-1752159600-1752166800@klsicci.com.my
SUMMARY:Empowering Digital for SMEs & MSMEs
DESCRIPTION:Dear Esteemed Members\, \nThe Kuala Lumpur and Selangor Indian Chamber of Commerce and Industry (KLSICCI)\, in collaboration with Maybank\, will be organising an exclusive webinar titled “Empowering Digital for SMEs & MSMEs“. This initiative aims to equip Small and Medium Enterprises (SMEs) and Micro\, Small and Medium Enterprises (MSMEs) with essential knowledge and tools to enhance digital adoption in their daily business operations. \nThe session will feature insights from two key speakers: \n\n Dr. Lalitha\, a renowned Digitalization Trainer\n Mr. Joshua\, QR Payment Specialist from Maybank\n\n  \nThe webinar will cover a range of crucial topics\, including: \n\nImplementation of QR Payment systems for both B2C and B2B transactions\nOverview of government matching grants\, including eligibility criteria\, required documentation\, and the application process\nIntroduction to digital tools that can improve productivity and efficiency in business operations\nGuidance on how businesses can claim e-Invoicing solutions under available government grants\n\n  \nThis informative session is designed to help businesses explore practical digital solutions\, understand available government support\, and take actionable steps toward automation and regulatory compliance. \nEvent Details: \nDate: 10th July 2025 (Thursday) \nTime: 3:00 PM – 5:00 PM \nPlatform: Zoom (Link will be shared closer to the event) \n  \nRegister via the Google Link provided below. \nhttps://forms.gle/SVR2qn1G3n9NwNUo8 \nKLSICCI encourages all interested businesses to mark their calendars and take advantage of this opportunity to accelerate their digital journey. \n  \nWarm Regards\, \nMogana Chinnathamby \nHonorary Secretary General \nKLSICCI – Est. 1928 \n 
URL:https://klsicci.com.my/event/empowering-digital-for-smes-msmes/
LOCATION:Kuala Lumpur
ATTACH;FMTTYPE=image/jpeg:https://klsicci.com.my/wp-content/uploads/2025/07/Empowering-Digital-for-SMEs-MSMEs.jpg
ORGANIZER;CN="KLSICCI":MAILTO:enquiry@klsicci.com.my
END:VEVENT
END:VCALENDAR